BEGIN:VCALENDAR
VERSION:2.0
PRODID:-//Lambeth Palace Library - ECPv6.15.20//NONSGML v1.0//EN
CALSCALE:GREGORIAN
METHOD:PUBLISH
X-ORIGINAL-URL:https://www.lambethpalacelibrary.info
X-WR-CALDESC:Events for Lambeth Palace Library
REFRESH-INTERVAL;VALUE=DURATION:PT1H
X-Robots-Tag:noindex
X-PUBLISHED-TTL:PT1H
BEGIN:VTIMEZONE
TZID:Europe/London
BEGIN:DAYLIGHT
TZOFFSETFROM:+0000
TZOFFSETTO:+0100
TZNAME:BST
DTSTART:20220327T010000
END:DAYLIGHT
BEGIN:STANDARD
TZOFFSETFROM:+0100
TZOFFSETTO:+0000
TZNAME:GMT
DTSTART:20221030T010000
END:STANDARD
BEGIN:DAYLIGHT
TZOFFSETFROM:+0000
TZOFFSETTO:+0100
TZNAME:BST
DTSTART:20230326T010000
END:DAYLIGHT
BEGIN:STANDARD
TZOFFSETFROM:+0100
TZOFFSETTO:+0000
TZNAME:GMT
DTSTART:20231029T010000
END:STANDARD
BEGIN:DAYLIGHT
TZOFFSETFROM:+0000
TZOFFSETTO:+0100
TZNAME:BST
DTSTART:20240331T010000
END:DAYLIGHT
BEGIN:STANDARD
TZOFFSETFROM:+0100
TZOFFSETTO:+0000
TZNAME:GMT
DTSTART:20241027T010000
END:STANDARD
END:VTIMEZONE
BEGIN:VEVENT
DTSTART;TZID=Europe/London:20230602T120000
DTEND;TZID=Europe/London:20230602T160000
DTSTAMP:20260423T205803
CREATED:20230517T105432Z
LAST-MODIFIED:20230517T105433Z
UID:7297-1685707200-1685721600@www.lambethpalacelibrary.info
SUMMARY:Garden Open Day
DESCRIPTION:Join us for a family fun day in the beautiful historic grounds of Lambeth Palace\, celebrating the new Coronation exhibition! \n\n\n\nWe are excited to welcome you to Lambeth Palace Library and Lambeth Palace Gardens for a very special garden open day\, celebrating the Coronation of King Charles III and the opening of the new Coronation exhibition\, ‘A declaration of our hopes for the future’. \n\n\n\nJoin us for food\, refreshments and fantastic activities\, including: \n\n\n\n\nLibrary tours and access to the brand new Coronation exhibition \n\n\n\nPalace Garden tours\n\n\n\nCrafts \n\n\n\nPhotobooth \n\n\n\nCookie Decorating \n\n\n\n\nEntry is FREE for all\, with a suggested £5 donation on entry. All donations collected will be given to the Friends of Lambeth Palace Library. \n\n\n\nThe last entry time is at 15:00. \n\n\n\nA﻿bout the Coronation exhibition: \n\n\n\nTo mark the coronation of King Charles III\, Lambeth Palace and Lambeth Palace Library collections are bringing you an exhibition of materials relating to previous coronations from that of Henry I in 1100 to that of our new sovereign. \n\n\n\nThe Library exhibition will run from 12 April to 13 July 2023 with highlights that include the manuscript coronation service prepared for William III and Mary II\, Archbishop Wake’s notes for the coronation of George II\, a letter from George VI thanking Archbishop Lang for his part in the coronation ceremony\, and the Bible upon which Elizabeth II swore her coronation oath. \n\n\n\nUntil 14 June 2023 the Library will host a display of artefacts from the Palace collections used in previous coronations\, including the cope and mitre worn by Archbishop Fisher in 1953 and the large banners from the 1902 coronation from which Archbishop Frederick Temple had to read the service because of his failing eyesight. We also have on display the Bible used during the Coronation service of King Charles III for the swearing of his oaths. \n\n\n\nBook your place via Eventbrite here: https://www.eventbrite.co.uk/e/lambeth-palace-garden-open-day-tickets-635445383247
URL:https://www.lambethpalacelibrary.info/event/garden-open-day/
LOCATION:Lambeth Palace\, Lambeth Palace Road\, London\, SE1 7JU
CATEGORIES:Open Day
END:VEVENT
END:VCALENDAR